BEGIN:VCALENDAR
VERSION:2.0
PRODID:SchoolNow
CALSCALE:GREGORIAN
BEGIN:VEVENT
UID:317b9406-dd8f-11ef-9210-0e956362e35d
DTSTAMP:20250128T154735Z
SUMMARY:Girls JV Basketball @ PHS Main Gym (5:00 PM)
LOCATION:PHS Main Gym
URL;VALUE=URI:https://www.uticaschools.org/departments/athletics/calendar/7
 387128/girls-jv-basketball-phs-main-gym-5-00-pm
DTSTART:20241029T210000Z
DTEND:20241029T233000Z
END:VEVENT
END:VCALENDAR
