BEGIN:VCALENDAR
VERSION:2.0
PRODID:SchoolNow
CALSCALE:GREGORIAN
BEGIN:VEVENT
UID:32c5505e-dd8f-11ef-b001-0e956362e35d
DTSTAMP:20250128T154737Z
SUMMARY:(B) V Basketball - Practice (1:00 PM)
LOCATION:PHS Main Gym
URL;VALUE=URI:https://www.uticaschools.org/departments/athletics/calendar/7
 387400/b-v-basketball-practice-1-00-pm
DTSTART:20241130T180000Z
DTEND:20241130T193000Z
END:VEVENT
END:VCALENDAR
