BEGIN:VCALENDAR
VERSION:2.0
PRODID:SchoolNow
CALSCALE:GREGORIAN
BEGIN:VEVENT
UID:3423dad8-dd8f-11ef-a7a9-0e956362e35d
DTSTAMP:20250128T154739Z
SUMMARY:(B) V Winter Track - Practice (2:45 PM)
LOCATION:PHS Indoor Track (Practice Facility)\, PHS Softball "TURF " Field
URL;VALUE=URI:https://www.uticaschools.org/departments/athletics/calendar/7
 387712/b-v-winter-track-practice-2-45-pm
DTSTART:20241122T194500Z
DTEND:20241122T220000Z
END:VEVENT
END:VCALENDAR
