BEGIN:VCALENDAR
VERSION:2.0
PRODID:SchoolNow
CALSCALE:GREGORIAN
BEGIN:VEVENT
UID:2479d83a-1f1a-11f1-a0ce-0a58a9feac02
DTSTAMP:20260330T195547Z
SUMMARY:LS: Biology REGENTS EXAM
URL;VALUE=URI:https://www.uticaschools.org/departments/guidance-counseling-
 services/calendar/8915525/ls-biology-regents-exam
DTSTART:20260618T120000Z
DTEND:20260618T140000Z
END:VEVENT
END:VCALENDAR
