BEGIN:VCALENDAR
VERSION:2.0
PRODID:SchoolNow
CALSCALE:GREGORIAN
BEGIN:VEVENT
UID:4fdab684-2dfc-11f1-9d76-0a58a9feac02
DTSTAMP:20260423T080010Z
SUMMARY:NY State Testing Grade 5 & 6 ELA
URL;VALUE=URI:https://www.uticaschools.org/schools/jefferson/calendar/89633
 95/ny-state-testing-grade-5-6-ela
DTSTART;VALUE=DATE:20260415
DTEND;VALUE=DATE:20260416
END:VEVENT
END:VCALENDAR
